BEGIN:VCALENDAR
VERSION:2.0
PRODID:-//EUROPA FORUM - ECPv6.15.18//NONSGML v1.0//EN
CALSCALE:GREGORIAN
METHOD:PUBLISH
X-WR-CALNAME:EUROPA FORUM
X-ORIGINAL-URL:https://europa-forum.org
X-WR-CALDESC:Veranstaltungen für EUROPA FORUM
REFRESH-INTERVAL;VALUE=DURATION:PT1H
X-Robots-Tag:noindex
X-PUBLISHED-TTL:PT1H
BEGIN:VTIMEZONE
TZID:Europe/Helsinki
BEGIN:DAYLIGHT
TZOFFSETFROM:+0200
TZOFFSETTO:+0300
TZNAME:EEST
DTSTART:20240331T010000
END:DAYLIGHT
BEGIN:STANDARD
TZOFFSETFROM:+0300
TZOFFSETTO:+0200
TZNAME:EET
DTSTART:20241027T010000
END:STANDARD
BEGIN:DAYLIGHT
TZOFFSETFROM:+0200
TZOFFSETTO:+0300
TZNAME:EEST
DTSTART:20250330T010000
END:DAYLIGHT
BEGIN:STANDARD
TZOFFSETFROM:+0300
TZOFFSETTO:+0200
TZNAME:EET
DTSTART:20251026T010000
END:STANDARD
BEGIN:DAYLIGHT
TZOFFSETFROM:+0200
TZOFFSETTO:+0300
TZNAME:EEST
DTSTART:20260329T010000
END:DAYLIGHT
BEGIN:STANDARD
TZOFFSETFROM:+0300
TZOFFSETTO:+0200
TZNAME:EET
DTSTART:20261025T010000
END:STANDARD
END:VTIMEZONE
BEGIN:VEVENT
DTSTART;VALUE=DATE:20251204
DTEND;VALUE=DATE:20251205
DTSTAMP:20260421T152651
CREATED:20250207T120825Z
LAST-MODIFIED:20251211T131511Z
UID:32422-1764806400-1764892799@europa-forum.org
SUMMARY:Weihnachtsfeier
DESCRIPTION:Zusammenfassung: \n	\n		\n			\n				\n			\n			\n				Das war die EF-Weihnachtsfeier 2025\n				Weihnachtsfeier des Europa Forums 2025 – Rückblick auf einen besonderen Abend und ein inspirierendes Jahr Die diesjährige Weihnachtsfeier des Europa... \n				EUROPA FORUM\n\n			\n		\n	\n	\n	\nEinladung: \n	\n		\n			\n				\n			\n			\n				Einladung zum Europa Forum Weihnachtsfeier am 2025\n				Liebe Mitglieder und Freunde Europa Forums\, der Vorstand des EUROPA FORUMS lädt Sie ganz herzlich zur traditionellen WEIHNACHTSFEIER 2025 ein. \n				EUROPA FORUM
URL:https://europa-forum.org/event-ef/weihnachtsfeier-2025/
LOCATION:Mövenpick Grand Hotel Wrocław\, ul. Piłsudskiego 100\, Wrocław\, 50-014
ATTACH;FMTTYPE=image/png:https://storage.googleapis.com/media-cloud-test-ef/2025/02/de/6ComqEtK-weihnachtsfeier.png
END:VEVENT
END:VCALENDAR