BEGIN:VCALENDAR
VERSION:2.0
PRODID:-//EUROPA FORUM - ECPv6.15.18//NONSGML v1.0//EN
CALSCALE:GREGORIAN
METHOD:PUBLISH
X-WR-CALNAME:EUROPA FORUM
X-ORIGINAL-URL:https://europa-forum.org
X-WR-CALDESC:Veranstaltungen für EUROPA FORUM
REFRESH-INTERVAL;VALUE=DURATION:PT1H
X-Robots-Tag:noindex
X-PUBLISHED-TTL:PT1H
BEGIN:VTIMEZONE
TZID:Europe/Helsinki
BEGIN:DAYLIGHT
TZOFFSETFROM:+0200
TZOFFSETTO:+0300
TZNAME:EEST
DTSTART:20240331T010000
END:DAYLIGHT
BEGIN:STANDARD
TZOFFSETFROM:+0300
TZOFFSETTO:+0200
TZNAME:EET
DTSTART:20241027T010000
END:STANDARD
BEGIN:DAYLIGHT
TZOFFSETFROM:+0200
TZOFFSETTO:+0300
TZNAME:EEST
DTSTART:20250330T010000
END:DAYLIGHT
BEGIN:STANDARD
TZOFFSETFROM:+0300
TZOFFSETTO:+0200
TZNAME:EET
DTSTART:20251026T010000
END:STANDARD
BEGIN:DAYLIGHT
TZOFFSETFROM:+0200
TZOFFSETTO:+0300
TZNAME:EEST
DTSTART:20260329T010000
END:DAYLIGHT
BEGIN:STANDARD
TZOFFSETFROM:+0300
TZOFFSETTO:+0200
TZNAME:EET
DTSTART:20261025T010000
END:STANDARD
END:VTIMEZONE
BEGIN:VEVENT
DTSTART;VALUE=DATE:20251030
DTEND;VALUE=DATE:20251031
DTSTAMP:20260421T180322
CREATED:20250207T120717Z
LAST-MODIFIED:20251024T123347Z
UID:32418-1761782400-1761868799@europa-forum.org
SUMMARY:Monatstreffen
DESCRIPTION:Einladung: \n	\n		\n			\n				\n			\n			\n				Einladung zum EF Monatstreffen am 30.10.2025\n				Sehr geehrte Mitglieder und Gäste des Europa Forums\, wir freuen uns sehr\, Sie herzlich zum nächsten monatlichen Treffen des Europa... \n				EUROPA FORUM
URL:https://europa-forum.org/event-ef/monatstreffen-30-10-2025/
LOCATION:CBRE\, ul. Sikorskiego 26\, Quorum - budynek D\, Wrocław\, 53-659\, Poland
ATTACH;FMTTYPE=image/png:https://storage.googleapis.com/media-cloud-test-ef/2025/02/de/MbN9JQk7-monatstreffen.png
END:VEVENT
END:VCALENDAR