BEGIN:VCALENDAR
VERSION:2.0
PRODID:-//EUROPA FORUM - ECPv6.15.18//NONSGML v1.0//EN
CALSCALE:GREGORIAN
METHOD:PUBLISH
X-ORIGINAL-URL:https://europa-forum.org
X-WR-CALDESC:Veranstaltungen für EUROPA FORUM
REFRESH-INTERVAL;VALUE=DURATION:PT1H
X-Robots-Tag:noindex
X-PUBLISHED-TTL:PT1H
BEGIN:VTIMEZONE
TZID:Europe/Helsinki
BEGIN:DAYLIGHT
TZOFFSETFROM:+0200
TZOFFSETTO:+0300
TZNAME:EEST
DTSTART:20240331T010000
END:DAYLIGHT
BEGIN:STANDARD
TZOFFSETFROM:+0300
TZOFFSETTO:+0200
TZNAME:EET
DTSTART:20241027T010000
END:STANDARD
BEGIN:DAYLIGHT
TZOFFSETFROM:+0200
TZOFFSETTO:+0300
TZNAME:EEST
DTSTART:20250330T010000
END:DAYLIGHT
BEGIN:STANDARD
TZOFFSETFROM:+0300
TZOFFSETTO:+0200
TZNAME:EET
DTSTART:20251026T010000
END:STANDARD
BEGIN:DAYLIGHT
TZOFFSETFROM:+0200
TZOFFSETTO:+0300
TZNAME:EEST
DTSTART:20260329T010000
END:DAYLIGHT
BEGIN:STANDARD
TZOFFSETFROM:+0300
TZOFFSETTO:+0200
TZNAME:EET
DTSTART:20261025T010000
END:STANDARD
END:VTIMEZONE
BEGIN:VEVENT
DTSTART;VALUE=DATE:20250626
DTEND;VALUE=DATE:20250627
DTSTAMP:20260421T232938
CREATED:20250207T120528Z
LAST-MODIFIED:20250211T110708Z
UID:32409-1750896000-1750982399@europa-forum.org
SUMMARY:Paneldisskusion
DESCRIPTION:
URL:https://europa-forum.org/event-ef/paneldisskusion-2025/
LOCATION:Location wird noch bekannt gegeben
ATTACH;FMTTYPE=image/png:https://storage.googleapis.com/media-cloud-test-ef/2025/02/de/iWwjTFFu-paneldisskusion.png
END:VEVENT
BEGIN:VEVENT
DTSTART;VALUE=DATE:20250626
DTEND;VALUE=DATE:20250627
DTSTAMP:20260421T232938
CREATED:20250616T064744Z
LAST-MODIFIED:20250704T122123Z
UID:33496-1750896000-1750982399@europa-forum.org
SUMMARY:Monatstreffen
DESCRIPTION:Das war das EF-Treffen im Juni\n				Am 26. Juni hatten wir das Vergnügen\, an einem besonderen Treffen des Europa Forums teilzunehmen\, das in der wunderschönen Umgebung... \n				EUROPA FORUM\n\n			\n		\n	\n	\n	\n	\n		\n			\n				\n			\n			\n				Einladung zum EF Monatstreffen am 26.06.2025\n				Sehr geehrte Damen und Herren\, wir laden Sie herzlich zum nächsten monatlichen EF-Treffen ein\, das am Donnerstag\, den 26. Juni... \n				EUROPA FORUM
URL:https://europa-forum.org/event-ef/monatstreffen-4/
LOCATION:Hotel Wyndham Old Town we Wrocławiu\, Świętego Mikołaja 67\, Wrocław\, 50-127\, Poland
ATTACH;FMTTYPE=image/png:https://storage.googleapis.com/media-cloud-test-ef/2025/02/de/MbN9JQk7-monatstreffen.png
END:VEVENT
END:VCALENDAR