BEGIN:VCALENDAR
VERSION:2.0
PRODID:-//EUROPA FORUM - ECPv6.15.18//NONSGML v1.0//EN
CALSCALE:GREGORIAN
METHOD:PUBLISH
X-ORIGINAL-URL:https://europa-forum.org
X-WR-CALDESC:Veranstaltungen für EUROPA FORUM
REFRESH-INTERVAL;VALUE=DURATION:PT1H
X-Robots-Tag:noindex
X-PUBLISHED-TTL:PT1H
BEGIN:VTIMEZONE
TZID:Europe/Helsinki
BEGIN:DAYLIGHT
TZOFFSETFROM:+0200
TZOFFSETTO:+0300
TZNAME:EEST
DTSTART:20240331T010000
END:DAYLIGHT
BEGIN:STANDARD
TZOFFSETFROM:+0300
TZOFFSETTO:+0200
TZNAME:EET
DTSTART:20241027T010000
END:STANDARD
BEGIN:DAYLIGHT
TZOFFSETFROM:+0200
TZOFFSETTO:+0300
TZNAME:EEST
DTSTART:20250330T010000
END:DAYLIGHT
BEGIN:STANDARD
TZOFFSETFROM:+0300
TZOFFSETTO:+0200
TZNAME:EET
DTSTART:20251026T010000
END:STANDARD
BEGIN:DAYLIGHT
TZOFFSETFROM:+0200
TZOFFSETTO:+0300
TZNAME:EEST
DTSTART:20260329T010000
END:DAYLIGHT
BEGIN:STANDARD
TZOFFSETFROM:+0300
TZOFFSETTO:+0200
TZNAME:EET
DTSTART:20261025T010000
END:STANDARD
END:VTIMEZONE
BEGIN:VEVENT
DTSTART;VALUE=DATE:20250509
DTEND;VALUE=DATE:20250510
DTSTAMP:20260422T010654
CREATED:20250207T120228Z
LAST-MODIFIED:20250212T124800Z
UID:32403-1746748800-1746835199@europa-forum.org
SUMMARY:EF goes concert: Dresdner Philharmonie
DESCRIPTION:EF goes concert\n				Szanowni melomanii i fani muzyki klasycznej\, jak co roku\, korzystamy z partnerstwa z NFM i zapraszamy Państwa do wspólnego uczestnictwa... \n				EUROPA FORUM
URL:https://europa-forum.org/event-ef/ef-goes-concert-09-05-2025/
LOCATION:NFM\, plac Wolności 1\, Wrocław\, Poland
ATTACH;FMTTYPE=image/png:https://storage.googleapis.com/media-cloud-test-ef/2025/02/pl/yyva50nK-ef-goes-concert.png
END:VEVENT
BEGIN:VEVENT
DTSTART;VALUE=DATE:20250523
DTEND;VALUE=DATE:20250524
DTSTAMP:20260422T010654
CREATED:20250207T120447Z
LAST-MODIFIED:20250212T124804Z
UID:32407-1747958400-1748044799@europa-forum.org
SUMMARY:EF goes concert: Chicago Symphony Orchestra
DESCRIPTION:EF goes concert\n				Szanowni melomanii i fani muzyki klasycznej\, jak co roku\, korzystamy z partnerstwa z NFM i zapraszamy Państwa do wspólnego uczestnictwa... \n				EUROPA FORUM
URL:https://europa-forum.org/event-ef/ef-goes-concert-23-05-2025/
LOCATION:NFM\, plac Wolności 1\, Wrocław\, Poland
ATTACH;FMTTYPE=image/png:https://storage.googleapis.com/media-cloud-test-ef/2025/02/pl/yyva50nK-ef-goes-concert.png
END:VEVENT
BEGIN:VEVENT
DTSTART;VALUE=DATE:20250529
DTEND;VALUE=DATE:20250530
DTSTAMP:20260422T010654
CREATED:20250207T120420Z
LAST-MODIFIED:20250325T075125Z
UID:32405-1748476800-1748563199@europa-forum.org
SUMMARY:Weinfestival
DESCRIPTION:Werden Sie Sponsor des 3. Weinfestivals\n				Liebe Mitglieder und Freunde des Europa Forums\, Mit Freude laden wir Sie ein\, unsere 3. Auflage des Weinfestivals zu unterstützen\,... \n				EUROPA FORUM\n\n			\n		\n	\n	\n	\n	\n		\n			\n				\n			\n			\n				Einladung zur Dritten Ausgabe des Breslauer Weinfestivals\n				Sehr geehrte Mitglieder und Freunde des Europa Forum\, Wir laden Sie herzlich zur Dritten Ausgabe des Wrocław Wine Festivals ein\, das am... \n				EUROPA FORUM
URL:https://europa-forum.org/event-ef/weinfestival-2025/
LOCATION:Location wird noch bekannt gegeben
ATTACH;FMTTYPE=image/png:https://storage.googleapis.com/media-cloud-test-ef/2025/02/de/gXMclXI9-weinfestival.png
END:VEVENT
END:VCALENDAR