BEGIN:VCALENDAR
VERSION:2.0
PRODID:-//EUROPA FORUM - ECPv6.15.18//NONSGML v1.0//EN
CALSCALE:GREGORIAN
METHOD:PUBLISH
X-WR-CALNAME:EUROPA FORUM
X-ORIGINAL-URL:https://europa-forum.org
X-WR-CALDESC:Veranstaltungen für EUROPA FORUM
REFRESH-INTERVAL;VALUE=DURATION:PT1H
X-Robots-Tag:noindex
X-PUBLISHED-TTL:PT1H
BEGIN:VTIMEZONE
TZID:Europe/Helsinki
BEGIN:DAYLIGHT
TZOFFSETFROM:+0200
TZOFFSETTO:+0300
TZNAME:EEST
DTSTART:20240331T010000
END:DAYLIGHT
BEGIN:STANDARD
TZOFFSETFROM:+0300
TZOFFSETTO:+0200
TZNAME:EET
DTSTART:20241027T010000
END:STANDARD
BEGIN:DAYLIGHT
TZOFFSETFROM:+0200
TZOFFSETTO:+0300
TZNAME:EEST
DTSTART:20250330T010000
END:DAYLIGHT
BEGIN:STANDARD
TZOFFSETFROM:+0300
TZOFFSETTO:+0200
TZNAME:EET
DTSTART:20251026T010000
END:STANDARD
BEGIN:DAYLIGHT
TZOFFSETFROM:+0200
TZOFFSETTO:+0300
TZNAME:EEST
DTSTART:20260329T010000
END:DAYLIGHT
BEGIN:STANDARD
TZOFFSETFROM:+0300
TZOFFSETTO:+0200
TZNAME:EET
DTSTART:20261025T010000
END:STANDARD
END:VTIMEZONE
BEGIN:VEVENT
DTSTART;VALUE=DATE:20250404
DTEND;VALUE=DATE:20250405
DTSTAMP:20260422T023239
CREATED:20250207T115701Z
LAST-MODIFIED:20250212T124756Z
UID:32399-1743724800-1743811199@europa-forum.org
SUMMARY:EF goes concert: „Odean die Freude“
DESCRIPTION:EF goes concert\n				Szanowni melomanii i fani muzyki klasycznej\, jak co roku\, korzystamy z partnerstwa z NFM i zapraszamy Państwa do wspólnego uczestnictwa... \n				EUROPA FORUM
URL:https://europa-forum.org/event-ef/ef-goes-concert-04-04-2025/
LOCATION:NFM\, plac Wolności 1\, Wrocław\, Poland
ATTACH;FMTTYPE=image/png:https://storage.googleapis.com/media-cloud-test-ef/2025/02/pl/yyva50nK-ef-goes-concert.png
END:VEVENT
BEGIN:VEVENT
DTSTART;VALUE=DATE:20250424
DTEND;VALUE=DATE:20250425
DTSTAMP:20260422T023239
CREATED:20250207T115737Z
LAST-MODIFIED:20250505T082004Z
UID:32401-1745452800-1745539199@europa-forum.org
SUMMARY:Monatstreffen
DESCRIPTION:Was für ein Abend!\n				Am 24. April trafen wir uns wieder im Rahmen des Europa Forum – dieses Mal im vertrauten Hilton Hotel in... \n				EUROPA FORUM\n\n			\n		\n	\n	\n	\n	\n		\n			\n				\n			\n			\n				Einladung zum EF Monatstreffen am 24.04.2025\n				Sehr geehrte Mitglieder und Gäste des Europa Forums\, Mit großer Freude laden wir Sie zu unserem nächsten monatlichen Treffen des... \n				EUROPA FORUM
URL:https://europa-forum.org/event-ef/monatstreffen-24-04-2025/
LOCATION:Hilton\, Podwale 84\, Wrocław\, Poland
ATTACH;FMTTYPE=image/png:https://storage.googleapis.com/media-cloud-test-ef/2025/02/de/MbN9JQk7-monatstreffen.png
END:VEVENT
END:VCALENDAR